BEGIN:VCALENDAR
VERSION:2.0
PRODID:-//Providence Athenæum - ECPv6.15.20//NONSGML v1.0//EN
CALSCALE:GREGORIAN
METHOD:PUBLISH
X-WR-CALNAME:Providence Athenæum
X-ORIGINAL-URL:https://providenceathenaeum.org
X-WR-CALDESC:Events for Providence Athenæum
REFRESH-INTERVAL;VALUE=DURATION:PT1H
X-Robots-Tag:noindex
X-PUBLISHED-TTL:PT1H
BEGIN:VTIMEZONE
TZID:America/New_York
BEGIN:DAYLIGHT
TZOFFSETFROM:-0500
TZOFFSETTO:-0400
TZNAME:EDT
DTSTART:20250309T070000
END:DAYLIGHT
BEGIN:STANDARD
TZOFFSETFROM:-0400
TZOFFSETTO:-0500
TZNAME:EST
DTSTART:20251102T060000
END:STANDARD
BEGIN:DAYLIGHT
TZOFFSETFROM:-0500
TZOFFSETTO:-0400
TZNAME:EDT
DTSTART:20260308T070000
END:DAYLIGHT
BEGIN:STANDARD
TZOFFSETFROM:-0400
TZOFFSETTO:-0500
TZNAME:EST
DTSTART:20261101T060000
END:STANDARD
BEGIN:DAYLIGHT
TZOFFSETFROM:-0500
TZOFFSETTO:-0400
TZNAME:EDT
DTSTART:20270314T070000
END:DAYLIGHT
BEGIN:STANDARD
TZOFFSETFROM:-0400
TZOFFSETTO:-0500
TZNAME:EST
DTSTART:20271107T060000
END:STANDARD
END:VTIMEZONE
BEGIN:VEVENT
DTSTART;TZID=America/New_York:20260423T173000
DTEND;TZID=America/New_York:20260423T200000
DTSTAMP:20260420T084907
CREATED:20260105T201458Z
LAST-MODIFIED:20260105T201458Z
UID:10080-1776965400-1776974400@providenceathenaeum.org
SUMMARY:The Athenæum Pub Quiz (April)
DESCRIPTION:The library’s popular pub quiz with Quizmaster Jonathan Migliori returns! Come test your trivia and general knowledge chops in the library after dark. Teams can have up to six players (groups under six are encouraged to team up with a new friend or two!). Creative and/or literary team names appreciated by all. 21+. Members/member guests: $20\, non-members: $40. Pizza and drinks included. Please note we are unable to accommodate dietary restrictions or requests for this event. \nDoors open at 5:30pm. The quiz will start promptly at 6pm. \nSponsored by Narragansett Beer\, Campus Fine Wines\, & Pizza Marvin
URL:https://providenceathenaeum.org/calendar/the-athenaeum-pub-quiz-april/
CATEGORIES:Adult Event
ATTACH;FMTTYPE=image/jpeg:https://providenceathenaeum.org/wp-content/uploads/2025/12/ProvAth_Pub-Quiz_sq.jpg
END:VEVENT
BEGIN:VEVENT
DTSTART;TZID=America/New_York:20260425T103000
DTEND;TZID=America/New_York:20260425T110000
DTSTAMP:20260420T084907
CREATED:20260316T173557Z
LAST-MODIFIED:20260316T173557Z
UID:10289-1777113000-1777114800@providenceathenaeum.org
SUMMARY:Sing-Along Story Time
DESCRIPTION:Join Miss Lindsay on Saturday mornings in the Children’s Library for Sing-Along Story Time! We will be shaking our sillies out with songs\, rhymes\, movement\, and simple stories. \nFor our littlest members (infants and toddlers to age 3).
URL:https://providenceathenaeum.org/calendar/sing-along-story-time-121/
CATEGORIES:Children's Event
ATTACH;FMTTYPE=image/jpeg:https://providenceathenaeum.org/wp-content/uploads/2025/12/ProvAth_Story-Time_Humpty_sq.jpg
END:VEVENT
BEGIN:VEVENT
DTSTART;TZID=America/New_York:20260501T173000
DTEND;TZID=America/New_York:20260501T183000
DTSTAMP:20260420T084907
CREATED:20260105T202143Z
LAST-MODIFIED:20260105T202243Z
UID:10147-1777656600-1777660200@providenceathenaeum.org
SUMMARY:EX LIBRIS: A Conversation with Gordon Wood
DESCRIPTION:On July 4\, 1776\, representatives of the United States of America assembled in Congress to formally notify King George III of their intent to separate from British rule. Their Declaration of Independence enshrined many of the political principles that would inform a new nation unlike any other that had ever existed. As we approach the 250th anniversary of this document\, Pulitzer Prize-winning historian and National Humanities Medal recipient Gordon Wood joins Providence Athenæum Executive Director Matt Burriesci for a conversation about the American Revolution\, its radicalism\, and its legacy. \nBook sale and signing
URL:https://providenceathenaeum.org/calendar/ex-libris-a-conversation-with-gordon-wood/
CATEGORIES:Adult Event
ATTACH;FMTTYPE=image/jpeg:https://providenceathenaeum.org/wp-content/uploads/2025/12/ProvAth_Gordon-Wood_sq.jpg
END:VEVENT
BEGIN:VEVENT
DTSTART;TZID=America/New_York:20260502T103000
DTEND;TZID=America/New_York:20260502T110000
DTSTAMP:20260420T084907
CREATED:20260316T180553Z
LAST-MODIFIED:20260316T180553Z
UID:10296-1777717800-1777719600@providenceathenaeum.org
SUMMARY:Sing-Along Story Time
DESCRIPTION:Join Miss Lindsay on Saturday mornings in the Children’s Library for Sing-Along Story Time! We will be shaking our sillies out with songs\, rhymes\, movement\, and simple stories. \nFor our littlest members (infants and toddlers to age 3).
URL:https://providenceathenaeum.org/calendar/sing-along-story-time-122/
CATEGORIES:Children's Event
ATTACH;FMTTYPE=image/jpeg:https://providenceathenaeum.org/wp-content/uploads/2025/12/ProvAth_Story-Time_Humpty_sq.jpg
END:VEVENT
BEGIN:VEVENT
DTSTART;TZID=America/New_York:20260502T150000
DTEND;TZID=America/New_York:20260502T160000
DTSTAMP:20260420T084907
CREATED:20260105T201520Z
LAST-MODIFIED:20260105T201520Z
UID:10139-1777734000-1777737600@providenceathenaeum.org
SUMMARY:Fairy House Workshop
DESCRIPTION:Visit the Children’s Library to craft a whimsical little home for any fairies who might be living in your neighborhood! \nAges 3+. In the Children’s Library.
URL:https://providenceathenaeum.org/calendar/fairy-house-workshop/
CATEGORIES:Children's Event
ATTACH;FMTTYPE=image/jpeg:https://providenceathenaeum.org/wp-content/uploads/2025/12/ProvAth_Fairy-House_sq.jpg
END:VEVENT
BEGIN:VEVENT
DTSTART;TZID=America/New_York:20260509T103000
DTEND;TZID=America/New_York:20260509T110000
DTSTAMP:20260420T084907
CREATED:20260316T180731Z
LAST-MODIFIED:20260316T180731Z
UID:10298-1778322600-1778324400@providenceathenaeum.org
SUMMARY:Sing-Along Story Time
DESCRIPTION:Join Miss Lindsay on Saturday mornings in the Children’s Library for Sing-Along Story Time! We will be shaking our sillies out with songs\, rhymes\, movement\, and simple stories. \nFor our littlest members (infants and toddlers to age 3).
URL:https://providenceathenaeum.org/calendar/sing-along-story-time-123/
CATEGORIES:Children's Event
ATTACH;FMTTYPE=image/jpeg:https://providenceathenaeum.org/wp-content/uploads/2025/12/ProvAth_Story-Time_Humpty_sq.jpg
END:VEVENT
BEGIN:VEVENT
DTSTART;TZID=America/New_York:20260516T103000
DTEND;TZID=America/New_York:20260516T110000
DTSTAMP:20260420T084907
CREATED:20260316T180848Z
LAST-MODIFIED:20260316T180848Z
UID:10300-1778927400-1778929200@providenceathenaeum.org
SUMMARY:Sing-Along Story Time
DESCRIPTION:Join Miss Lindsay on Saturday mornings in the Children’s Library for Sing-Along Story Time! We will be shaking our sillies out with songs\, rhymes\, movement\, and simple stories. \nFor our littlest members (infants and toddlers to age 3).
URL:https://providenceathenaeum.org/calendar/sing-along-story-time-124/
CATEGORIES:Children's Event
ATTACH;FMTTYPE=image/jpeg:https://providenceathenaeum.org/wp-content/uploads/2025/12/ProvAth_Story-Time_Humpty_sq.jpg
END:VEVENT
BEGIN:VEVENT
DTSTART;TZID=America/New_York:20260523T103000
DTEND;TZID=America/New_York:20260523T110000
DTSTAMP:20260420T084907
CREATED:20260316T181009Z
LAST-MODIFIED:20260316T181009Z
UID:10302-1779532200-1779534000@providenceathenaeum.org
SUMMARY:Sing-Along Story Time
DESCRIPTION:Join Miss Lindsay on Saturday mornings in the Children’s Library for Sing-Along Story Time! We will be shaking our sillies out with songs\, rhymes\, movement\, and simple stories. \nFor our littlest members (infants and toddlers to age 3).
URL:https://providenceathenaeum.org/calendar/sing-along-story-time-125/
CATEGORIES:Children's Event
ATTACH;FMTTYPE=image/jpeg:https://providenceathenaeum.org/wp-content/uploads/2025/12/ProvAth_Story-Time_Humpty_sq.jpg
END:VEVENT
BEGIN:VEVENT
DTSTART;TZID=America/New_York:20260530T103000
DTEND;TZID=America/New_York:20260530T110000
DTSTAMP:20260420T084907
CREATED:20260316T181122Z
LAST-MODIFIED:20260316T181122Z
UID:10304-1780137000-1780138800@providenceathenaeum.org
SUMMARY:Sing-Along Story Time
DESCRIPTION:Join Miss Lindsay on Saturday mornings in the Children’s Library for Sing-Along Story Time! We will be shaking our sillies out with songs\, rhymes\, movement\, and simple stories. \nFor our littlest members (infants and toddlers to age 3).
URL:https://providenceathenaeum.org/calendar/sing-along-story-time-126/
CATEGORIES:Children's Event
ATTACH;FMTTYPE=image/jpeg:https://providenceathenaeum.org/wp-content/uploads/2025/12/ProvAth_Story-Time_Humpty_sq.jpg
END:VEVENT
BEGIN:VEVENT
DTSTART;TZID=America/New_York:20260606T103000
DTEND;TZID=America/New_York:20260606T110000
DTSTAMP:20260420T084907
CREATED:20260316T181233Z
LAST-MODIFIED:20260316T181233Z
UID:10306-1780741800-1780743600@providenceathenaeum.org
SUMMARY:Sing-Along Story Time
DESCRIPTION:Join Miss Lindsay on Saturday mornings in the Children’s Library for Sing-Along Story Time! We will be shaking our sillies out with songs\, rhymes\, movement\, and simple stories. \nFor our littlest members (infants and toddlers to age 3).
URL:https://providenceathenaeum.org/calendar/sing-along-story-time-127/
CATEGORIES:Children's Event
ATTACH;FMTTYPE=image/jpeg:https://providenceathenaeum.org/wp-content/uploads/2025/12/ProvAth_Story-Time_Humpty_sq.jpg
END:VEVENT
BEGIN:VEVENT
DTSTART;TZID=America/New_York:20260613T103000
DTEND;TZID=America/New_York:20260613T110000
DTSTAMP:20260420T084907
CREATED:20260316T181406Z
LAST-MODIFIED:20260316T181406Z
UID:10308-1781346600-1781348400@providenceathenaeum.org
SUMMARY:Sing-Along Story Time
DESCRIPTION:Join Miss Lindsay on Saturday mornings in the Children’s Library for Sing-Along Story Time! We will be shaking our sillies out with songs\, rhymes\, movement\, and simple stories. \nFor our littlest members (infants and toddlers to age 3).
URL:https://providenceathenaeum.org/calendar/sing-along-story-time-128/
CATEGORIES:Children's Event
ATTACH;FMTTYPE=image/jpeg:https://providenceathenaeum.org/wp-content/uploads/2025/12/ProvAth_Story-Time_Humpty_sq.jpg
END:VEVENT
BEGIN:VEVENT
DTSTART;TZID=America/New_York:20260620T103000
DTEND;TZID=America/New_York:20260620T110000
DTSTAMP:20260420T084907
CREATED:20260316T181528Z
LAST-MODIFIED:20260316T181528Z
UID:10310-1781951400-1781953200@providenceathenaeum.org
SUMMARY:Sing-Along Story Time
DESCRIPTION:Join Miss Lindsay on Saturday mornings in the Children’s Library for Sing-Along Story Time! We will be shaking our sillies out with songs\, rhymes\, movement\, and simple stories. \nFor our littlest members (infants and toddlers to age 3).
URL:https://providenceathenaeum.org/calendar/sing-along-story-time-129/
CATEGORIES:Children's Event
ATTACH;FMTTYPE=image/jpeg:https://providenceathenaeum.org/wp-content/uploads/2025/12/ProvAth_Story-Time_Humpty_sq.jpg
END:VEVENT
END:VCALENDAR